BEGIN:VCALENDAR
VERSION:2.0
PRODID:-//Mt. Carmel Veterans Center - ECPv6.15.18//NONSGML v1.0//EN
CALSCALE:GREGORIAN
METHOD:PUBLISH
X-WR-CALNAME:Mt. Carmel Veterans Center
X-ORIGINAL-URL:https://www.veteranscenter.org
X-WR-CALDESC:Events for Mt. Carmel Veterans Center
REFRESH-INTERVAL;VALUE=DURATION:PT1H
X-Robots-Tag:noindex
X-PUBLISHED-TTL:PT1H
BEGIN:VTIMEZONE
TZID:America/Denver
BEGIN:DAYLIGHT
TZOFFSETFROM:-0700
TZOFFSETTO:-0600
TZNAME:MDT
DTSTART:20250309T090000
END:DAYLIGHT
BEGIN:STANDARD
TZOFFSETFROM:-0600
TZOFFSETTO:-0700
TZNAME:MST
DTSTART:20251102T080000
END:STANDARD
BEGIN:DAYLIGHT
TZOFFSETFROM:-0700
TZOFFSETTO:-0600
TZNAME:MDT
DTSTART:20260308T090000
END:DAYLIGHT
BEGIN:STANDARD
TZOFFSETFROM:-0600
TZOFFSETTO:-0700
TZNAME:MST
DTSTART:20261101T080000
END:STANDARD
BEGIN:DAYLIGHT
TZOFFSETFROM:-0700
TZOFFSETTO:-0600
TZNAME:MDT
DTSTART:20270314T090000
END:DAYLIGHT
BEGIN:STANDARD
TZOFFSETFROM:-0600
TZOFFSETTO:-0700
TZNAME:MST
DTSTART:20271107T080000
END:STANDARD
END:VTIMEZONE
BEGIN:VEVENT
DTSTART;TZID=America/Denver:20260702T140000
DTEND;TZID=America/Denver:20260702T160000
DTSTAMP:20260420T072558
CREATED:20240424T213216Z
LAST-MODIFIED:20260105T220045Z
UID:10003072-1783000800-1783008000@www.veteranscenter.org
SUMMARY:Create Your Best Resume
DESCRIPTION:*FREE CLASS* \nYou want to have the BEST resume you possible can in your job search efforts. If you’re not quite there yet\, then this workshop is for you! \n2:00pm – 4:00pm \nMt. Carmel Veterans Service Center \nSPACE IS LIMITED! \nRegister by calling 719-772-7000 or by contacting your Mt. Carmel Peer Navigator \n 
URL:https://www.veteranscenter.org/mtcarmel-event/create-your-best-resume-3/2026-07-02/
LOCATION:Mt. Carmel Veterans Service Center\, 530 Communication Circle\, Colorado Springs\, CO\, 80905\, United States
CATEGORIES:Community Events
END:VEVENT
BEGIN:VEVENT
DTSTART;TZID=America/Denver:20260706T173000
DTEND;TZID=America/Denver:20260706T193000
DTSTAMP:20260420T072558
CREATED:20260402T185106Z
LAST-MODIFIED:20260402T185417Z
UID:10003863-1783359000-1783366200@www.veteranscenter.org
SUMMARY:Art Expressions - Painting
DESCRIPTION:Art Expressions at Mt Carmel Veterans Service Center \nIn partnership with Bemis School of Art 2026 \nUncover techniques to foster artistic talents while enhancing self-awareness. Delve into a realm of potential\, cultivate creativity\, and deepen personal understanding by engaging with a diverse range of manageable art mediums. Harness the power of art as a conduit for emotional expression\, offering a constructive avenue and an alternative means of conveying complex feelings beyond verbal articulation. Reflecting on the art created can yield fresh perspectives and profound insights into one’s emotional landscape. Supplies are provided. \nIf interested\, please contact the Health and Wellness line to sign up: (719) 309-4758\n*All classes run from 5:30pm – 7:30pm \n2026 Schedule of Events\nMarch 16\, 23 and 30 (Mondays)\nWith Kim N – Journal Cover Decorating & Collage \nApril 6-27 (Mondays)\nWith Marianne E. – Mixed Media \nMay 4-18 (Mondays)\nWith Melissa D. – Painting \nJune 1-29 (Mondays)\n5 weeks\nWith Kim N – Watercolor  \nJuly 6-27 (Mondays)\n4 weeks\nWith Melissa D. – Painting  \nAugust 3\, 17\, 24 & 31\, no class August 10 (Mondays)\n4 weeks\nWith Kim N – Gelli Plate Printing  \nSeptember 14-28 (Mondays)\n3 weeks\nWith Kim N – Mixed Media  \nOctober 5-26 (Mondays)\n4 weeks\nWith Marianne E. – Mixed Media  \nNovember 2\, 16\, 23 & 30\, no class November 9 (Mondays)\n4 weeks\nWith Kim N – Holiday Projects \nDecember 7-21 (Mondays)\n4 weeks\nWith Kim N – Holiday Projects
URL:https://www.veteranscenter.org/mtcarmel-event/art-expressions-painting/2026-07-06/
LOCATION:Mt. Carmel Veterans Service Center\, 530 Communication Circle\, Colorado Springs\, CO\, 80905\, United States
CATEGORIES:Community Events
ATTACH;FMTTYPE=image/png:https://www.veteranscenter.org/wp-content/uploads/2026/04/Copy-of-logo-for-vboc-9.png
END:VEVENT
BEGIN:VEVENT
DTSTART;TZID=America/Denver:20260707T163000
DTEND;TZID=America/Denver:20260707T173000
DTSTAMP:20260420T072558
CREATED:20250602T194415Z
LAST-MODIFIED:20260105T212925Z
UID:10002697-1783441800-1783445400@www.veteranscenter.org
SUMMARY:Comeback Yoga
DESCRIPTION:“We focus on tools within yoga that help down regulate the nervous system\, and alleviate trauma symptoms all while moving the body in sustainable ways. More so\, when students come to class\, they know that they are already in a room\, or virtual room\, with people who have had similar life experiences. For more information you can call 719-309-4758.”
URL:https://www.veteranscenter.org/mtcarmel-event/comeback-yoga-5/2026-07-07/
LOCATION:Mt. Carmel Veterans Service Center\, 530 Communication Circle\, Colorado Springs\, CO\, 80905\, United States
CATEGORIES:Community Events
ATTACH;FMTTYPE=image/png:https://www.veteranscenter.org/wp-content/uploads/2024/01/comeback-yoga.png
END:VEVENT
BEGIN:VEVENT
DTSTART;TZID=America/Denver:20260713T173000
DTEND;TZID=America/Denver:20260713T193000
DTSTAMP:20260420T072558
CREATED:20260402T185106Z
LAST-MODIFIED:20260402T185417Z
UID:10003864-1783963800-1783971000@www.veteranscenter.org
SUMMARY:Art Expressions - Painting
DESCRIPTION:Art Expressions at Mt Carmel Veterans Service Center \nIn partnership with Bemis School of Art 2026 \nUncover techniques to foster artistic talents while enhancing self-awareness. Delve into a realm of potential\, cultivate creativity\, and deepen personal understanding by engaging with a diverse range of manageable art mediums. Harness the power of art as a conduit for emotional expression\, offering a constructive avenue and an alternative means of conveying complex feelings beyond verbal articulation. Reflecting on the art created can yield fresh perspectives and profound insights into one’s emotional landscape. Supplies are provided. \nIf interested\, please contact the Health and Wellness line to sign up: (719) 309-4758\n*All classes run from 5:30pm – 7:30pm \n2026 Schedule of Events\nMarch 16\, 23 and 30 (Mondays)\nWith Kim N – Journal Cover Decorating & Collage \nApril 6-27 (Mondays)\nWith Marianne E. – Mixed Media \nMay 4-18 (Mondays)\nWith Melissa D. – Painting \nJune 1-29 (Mondays)\n5 weeks\nWith Kim N – Watercolor  \nJuly 6-27 (Mondays)\n4 weeks\nWith Melissa D. – Painting  \nAugust 3\, 17\, 24 & 31\, no class August 10 (Mondays)\n4 weeks\nWith Kim N – Gelli Plate Printing  \nSeptember 14-28 (Mondays)\n3 weeks\nWith Kim N – Mixed Media  \nOctober 5-26 (Mondays)\n4 weeks\nWith Marianne E. – Mixed Media  \nNovember 2\, 16\, 23 & 30\, no class November 9 (Mondays)\n4 weeks\nWith Kim N – Holiday Projects \nDecember 7-21 (Mondays)\n4 weeks\nWith Kim N – Holiday Projects
URL:https://www.veteranscenter.org/mtcarmel-event/art-expressions-painting/2026-07-13/
LOCATION:Mt. Carmel Veterans Service Center\, 530 Communication Circle\, Colorado Springs\, CO\, 80905\, United States
CATEGORIES:Community Events
ATTACH;FMTTYPE=image/png:https://www.veteranscenter.org/wp-content/uploads/2026/04/Copy-of-logo-for-vboc-9.png
END:VEVENT
BEGIN:VEVENT
DTSTART;TZID=America/Denver:20260714T163000
DTEND;TZID=America/Denver:20260714T173000
DTSTAMP:20260420T072558
CREATED:20250602T194415Z
LAST-MODIFIED:20260105T212925Z
UID:10002698-1784046600-1784050200@www.veteranscenter.org
SUMMARY:Comeback Yoga
DESCRIPTION:“We focus on tools within yoga that help down regulate the nervous system\, and alleviate trauma symptoms all while moving the body in sustainable ways. More so\, when students come to class\, they know that they are already in a room\, or virtual room\, with people who have had similar life experiences. For more information you can call 719-309-4758.”
URL:https://www.veteranscenter.org/mtcarmel-event/comeback-yoga-5/2026-07-14/
LOCATION:Mt. Carmel Veterans Service Center\, 530 Communication Circle\, Colorado Springs\, CO\, 80905\, United States
CATEGORIES:Community Events
ATTACH;FMTTYPE=image/png:https://www.veteranscenter.org/wp-content/uploads/2024/01/comeback-yoga.png
END:VEVENT
BEGIN:VEVENT
DTSTART;TZID=America/Denver:20260720T173000
DTEND;TZID=America/Denver:20260720T193000
DTSTAMP:20260420T072558
CREATED:20260402T185106Z
LAST-MODIFIED:20260402T185417Z
UID:10003865-1784568600-1784575800@www.veteranscenter.org
SUMMARY:Art Expressions - Painting
DESCRIPTION:Art Expressions at Mt Carmel Veterans Service Center \nIn partnership with Bemis School of Art 2026 \nUncover techniques to foster artistic talents while enhancing self-awareness. Delve into a realm of potential\, cultivate creativity\, and deepen personal understanding by engaging with a diverse range of manageable art mediums. Harness the power of art as a conduit for emotional expression\, offering a constructive avenue and an alternative means of conveying complex feelings beyond verbal articulation. Reflecting on the art created can yield fresh perspectives and profound insights into one’s emotional landscape. Supplies are provided. \nIf interested\, please contact the Health and Wellness line to sign up: (719) 309-4758\n*All classes run from 5:30pm – 7:30pm \n2026 Schedule of Events\nMarch 16\, 23 and 30 (Mondays)\nWith Kim N – Journal Cover Decorating & Collage \nApril 6-27 (Mondays)\nWith Marianne E. – Mixed Media \nMay 4-18 (Mondays)\nWith Melissa D. – Painting \nJune 1-29 (Mondays)\n5 weeks\nWith Kim N – Watercolor  \nJuly 6-27 (Mondays)\n4 weeks\nWith Melissa D. – Painting  \nAugust 3\, 17\, 24 & 31\, no class August 10 (Mondays)\n4 weeks\nWith Kim N – Gelli Plate Printing  \nSeptember 14-28 (Mondays)\n3 weeks\nWith Kim N – Mixed Media  \nOctober 5-26 (Mondays)\n4 weeks\nWith Marianne E. – Mixed Media  \nNovember 2\, 16\, 23 & 30\, no class November 9 (Mondays)\n4 weeks\nWith Kim N – Holiday Projects \nDecember 7-21 (Mondays)\n4 weeks\nWith Kim N – Holiday Projects
URL:https://www.veteranscenter.org/mtcarmel-event/art-expressions-painting/2026-07-20/
LOCATION:Mt. Carmel Veterans Service Center\, 530 Communication Circle\, Colorado Springs\, CO\, 80905\, United States
CATEGORIES:Community Events
ATTACH;FMTTYPE=image/png:https://www.veteranscenter.org/wp-content/uploads/2026/04/Copy-of-logo-for-vboc-9.png
END:VEVENT
BEGIN:VEVENT
DTSTART;TZID=America/Denver:20260721T163000
DTEND;TZID=America/Denver:20260721T173000
DTSTAMP:20260420T072558
CREATED:20250602T194415Z
LAST-MODIFIED:20260105T212925Z
UID:10002699-1784651400-1784655000@www.veteranscenter.org
SUMMARY:Comeback Yoga
DESCRIPTION:“We focus on tools within yoga that help down regulate the nervous system\, and alleviate trauma symptoms all while moving the body in sustainable ways. More so\, when students come to class\, they know that they are already in a room\, or virtual room\, with people who have had similar life experiences. For more information you can call 719-309-4758.”
URL:https://www.veteranscenter.org/mtcarmel-event/comeback-yoga-5/2026-07-21/
LOCATION:Mt. Carmel Veterans Service Center\, 530 Communication Circle\, Colorado Springs\, CO\, 80905\, United States
CATEGORIES:Community Events
ATTACH;FMTTYPE=image/png:https://www.veteranscenter.org/wp-content/uploads/2024/01/comeback-yoga.png
END:VEVENT
BEGIN:VEVENT
DTSTART;TZID=America/Denver:20260723T160000
DTEND;TZID=America/Denver:20260723T180000
DTSTAMP:20260420T072558
CREATED:20240429T181901Z
LAST-MODIFIED:20260108T152745Z
UID:10003088-1784822400-1784829600@www.veteranscenter.org
SUMMARY:Peer Navigator Social & Networking Event
DESCRIPTION:Open to active military\, veterans\, military spouses\, Guard\, and Reserve.\nBring your most current resume and business cards. \nWhere: Blackhat Distillery \nWhen: 4:00pm – 6:00pm \n*This is an informal event – casual attire welcome.
URL:https://www.veteranscenter.org/mtcarmel-event/peer-navigator-social-networking-event-4/2026-07-23/
LOCATION:Blackhat Distillery\, 3104 N. Nevada Ave.\, Suite 120\, Colorado Springs\, CO 80907\, Colorado Springs\, CO\, 80907
CATEGORIES:Community Events
END:VEVENT
BEGIN:VEVENT
DTSTART;TZID=America/Denver:20260727T173000
DTEND;TZID=America/Denver:20260727T193000
DTSTAMP:20260420T072558
CREATED:20260402T185106Z
LAST-MODIFIED:20260402T185417Z
UID:10003866-1785173400-1785180600@www.veteranscenter.org
SUMMARY:Art Expressions - Painting
DESCRIPTION:Art Expressions at Mt Carmel Veterans Service Center \nIn partnership with Bemis School of Art 2026 \nUncover techniques to foster artistic talents while enhancing self-awareness. Delve into a realm of potential\, cultivate creativity\, and deepen personal understanding by engaging with a diverse range of manageable art mediums. Harness the power of art as a conduit for emotional expression\, offering a constructive avenue and an alternative means of conveying complex feelings beyond verbal articulation. Reflecting on the art created can yield fresh perspectives and profound insights into one’s emotional landscape. Supplies are provided. \nIf interested\, please contact the Health and Wellness line to sign up: (719) 309-4758\n*All classes run from 5:30pm – 7:30pm \n2026 Schedule of Events\nMarch 16\, 23 and 30 (Mondays)\nWith Kim N – Journal Cover Decorating & Collage \nApril 6-27 (Mondays)\nWith Marianne E. – Mixed Media \nMay 4-18 (Mondays)\nWith Melissa D. – Painting \nJune 1-29 (Mondays)\n5 weeks\nWith Kim N – Watercolor  \nJuly 6-27 (Mondays)\n4 weeks\nWith Melissa D. – Painting  \nAugust 3\, 17\, 24 & 31\, no class August 10 (Mondays)\n4 weeks\nWith Kim N – Gelli Plate Printing  \nSeptember 14-28 (Mondays)\n3 weeks\nWith Kim N – Mixed Media  \nOctober 5-26 (Mondays)\n4 weeks\nWith Marianne E. – Mixed Media  \nNovember 2\, 16\, 23 & 30\, no class November 9 (Mondays)\n4 weeks\nWith Kim N – Holiday Projects \nDecember 7-21 (Mondays)\n4 weeks\nWith Kim N – Holiday Projects
URL:https://www.veteranscenter.org/mtcarmel-event/art-expressions-painting/2026-07-27/
LOCATION:Mt. Carmel Veterans Service Center\, 530 Communication Circle\, Colorado Springs\, CO\, 80905\, United States
CATEGORIES:Community Events
ATTACH;FMTTYPE=image/png:https://www.veteranscenter.org/wp-content/uploads/2026/04/Copy-of-logo-for-vboc-9.png
END:VEVENT
BEGIN:VEVENT
DTSTART;TZID=America/Denver:20260728T163000
DTEND;TZID=America/Denver:20260728T173000
DTSTAMP:20260420T072558
CREATED:20250602T194415Z
LAST-MODIFIED:20260105T212925Z
UID:10002700-1785256200-1785259800@www.veteranscenter.org
SUMMARY:Comeback Yoga
DESCRIPTION:“We focus on tools within yoga that help down regulate the nervous system\, and alleviate trauma symptoms all while moving the body in sustainable ways. More so\, when students come to class\, they know that they are already in a room\, or virtual room\, with people who have had similar life experiences. For more information you can call 719-309-4758.”
URL:https://www.veteranscenter.org/mtcarmel-event/comeback-yoga-5/2026-07-28/
LOCATION:Mt. Carmel Veterans Service Center\, 530 Communication Circle\, Colorado Springs\, CO\, 80905\, United States
CATEGORIES:Community Events
ATTACH;FMTTYPE=image/png:https://www.veteranscenter.org/wp-content/uploads/2024/01/comeback-yoga.png
END:VEVENT
BEGIN:VEVENT
DTSTART;TZID=America/Denver:20260730T130000
DTEND;TZID=America/Denver:20260730T150000
DTSTAMP:20260420T072558
CREATED:20240424T223421Z
LAST-MODIFIED:20260402T181706Z
UID:10003082-1785416400-1785423600@www.veteranscenter.org
SUMMARY:Linked in 101 FOR Veterans
DESCRIPTION:LEARN TO BUILD YOUR\nLINKEDIN PROFILE\nAND PRESENCE! \nLearn how to leverage your\nnetwork and tell your story to\ncreate a stronger path forward in\nconnecting with people and causes\nas you transition into civilian life. \nLocation: 530 Communication Circle\, Colorado Springs\, CO 80905 \nRESERVE YOUR SPOT: jdix@mtcarmelcenter.org
URL:https://www.veteranscenter.org/mtcarmel-event/linked-in-101-for-veterans-4/2026-07-30/
LOCATION:Mt. Carmel Veterans Service Center\, 530 Communication Circle\, Colorado Springs\, CO\, 80905\, United States
CATEGORIES:Community Events
ATTACH;FMTTYPE=image/png:https://www.veteranscenter.org/wp-content/uploads/2024/04/Copy-of-logo-for-vboc-6.png
END:VEVENT
END:VCALENDAR