BEGIN:VCALENDAR
VERSION:2.0
PRODID:-//Mt. Carmel Veterans Center - ECPv6.15.18//NONSGML v1.0//EN
CALSCALE:GREGORIAN
METHOD:PUBLISH
X-ORIGINAL-URL:https://www.veteranscenter.org
X-WR-CALDESC:Events for Mt. Carmel Veterans Center
REFRESH-INTERVAL;VALUE=DURATION:PT1H
X-Robots-Tag:noindex
X-PUBLISHED-TTL:PT1H
BEGIN:VTIMEZONE
TZID:America/Denver
BEGIN:DAYLIGHT
TZOFFSETFROM:-0700
TZOFFSETTO:-0600
TZNAME:MDT
DTSTART:20250309T090000
END:DAYLIGHT
BEGIN:STANDARD
TZOFFSETFROM:-0600
TZOFFSETTO:-0700
TZNAME:MST
DTSTART:20251102T080000
END:STANDARD
BEGIN:DAYLIGHT
TZOFFSETFROM:-0700
TZOFFSETTO:-0600
TZNAME:MDT
DTSTART:20260308T090000
END:DAYLIGHT
BEGIN:STANDARD
TZOFFSETFROM:-0600
TZOFFSETTO:-0700
TZNAME:MST
DTSTART:20261101T080000
END:STANDARD
BEGIN:DAYLIGHT
TZOFFSETFROM:-0700
TZOFFSETTO:-0600
TZNAME:MDT
DTSTART:20270314T090000
END:DAYLIGHT
BEGIN:STANDARD
TZOFFSETFROM:-0600
TZOFFSETTO:-0700
TZNAME:MST
DTSTART:20271107T080000
END:STANDARD
END:VTIMEZONE
BEGIN:VEVENT
DTSTART;TZID=America/Denver:20260106T163000
DTEND;TZID=America/Denver:20260106T173000
DTSTAMP:20260422T062113
CREATED:20250602T194415Z
LAST-MODIFIED:20260105T212925Z
UID:10002671-1767717000-1767720600@www.veteranscenter.org
SUMMARY:Comeback Yoga
DESCRIPTION:“We focus on tools within yoga that help down regulate the nervous system\, and alleviate trauma symptoms all while moving the body in sustainable ways. More so\, when students come to class\, they know that they are already in a room\, or virtual room\, with people who have had similar life experiences. For more information you can call 719-309-4758.”
URL:https://www.veteranscenter.org/mtcarmel-event/comeback-yoga-5/2026-01-06/
LOCATION:Mt. Carmel Veterans Service Center\, 530 Communication Circle\, Colorado Springs\, CO\, 80905\, United States
CATEGORIES:Community Events
ATTACH;FMTTYPE=image/png:https://www.veteranscenter.org/wp-content/uploads/2024/01/comeback-yoga.png
END:VEVENT
BEGIN:VEVENT
DTSTART;TZID=America/Denver:20260108T140000
DTEND;TZID=America/Denver:20260108T160000
DTSTAMP:20260422T062113
CREATED:20240424T213216Z
LAST-MODIFIED:20260105T220045Z
UID:10003066-1767880800-1767888000@www.veteranscenter.org
SUMMARY:Create Your Best Resume
DESCRIPTION:*FREE CLASS* \nYou want to have the BEST resume you possible can in your job search efforts. If you’re not quite there yet\, then this workshop is for you! \n2:00pm – 4:00pm \nMt. Carmel Veterans Service Center \nSPACE IS LIMITED! \nRegister by calling 719-772-7000 or by contacting your Mt. Carmel Peer Navigator \n 
URL:https://www.veteranscenter.org/mtcarmel-event/create-your-best-resume-3/2026-01-08/
LOCATION:Mt. Carmel Veterans Service Center\, 530 Communication Circle\, Colorado Springs\, CO\, 80905\, United States
CATEGORIES:Community Events
END:VEVENT
BEGIN:VEVENT
DTSTART;TZID=America/Denver:20260109T100000
DTEND;TZID=America/Denver:20260109T110000
DTSTAMP:20260422T062113
CREATED:20240729T205546Z
LAST-MODIFIED:20260310T203738Z
UID:10002529-1767952800-1767956400@www.veteranscenter.org
SUMMARY:Food Distro
DESCRIPTION:OPEN TO ALL!\nOpens at 10AM\nUntil Supplies are Depleted \nNorris Penrose Event Center Upper Lot\n1125 W. Moreno St. \nAcross from Mt. Carmel Veterans Service Center \n*2/28 – Will be held in the Norris Penrose North Parking Lot down by the Rodeo Arena (1045 Lower Gold Camp Rd\, C. Springs) \n*9/12 – Patriot Day event (Must pre-register; details to follow) 
URL:https://www.veteranscenter.org/mtcarmel-event/food-distro-6/2026-01-09/
LOCATION:Norris Penrose Event Center Upper Lot\, 1125 W. Moreno St.\, Colorado Springs\, CO\, 80905\, United States
CATEGORIES:Food Distro
ATTACH;FMTTYPE=image/png:https://www.veteranscenter.org/wp-content/uploads/2026/03/Mt-Carmel-Event-1.png
END:VEVENT
BEGIN:VEVENT
DTSTART;TZID=America/Denver:20260113T163000
DTEND;TZID=America/Denver:20260113T173000
DTSTAMP:20260422T062113
CREATED:20250602T194415Z
LAST-MODIFIED:20260105T212925Z
UID:10002672-1768321800-1768325400@www.veteranscenter.org
SUMMARY:Comeback Yoga
DESCRIPTION:“We focus on tools within yoga that help down regulate the nervous system\, and alleviate trauma symptoms all while moving the body in sustainable ways. More so\, when students come to class\, they know that they are already in a room\, or virtual room\, with people who have had similar life experiences. For more information you can call 719-309-4758.”
URL:https://www.veteranscenter.org/mtcarmel-event/comeback-yoga-5/2026-01-13/
LOCATION:Mt. Carmel Veterans Service Center\, 530 Communication Circle\, Colorado Springs\, CO\, 80905\, United States
CATEGORIES:Community Events
ATTACH;FMTTYPE=image/png:https://www.veteranscenter.org/wp-content/uploads/2024/01/comeback-yoga.png
END:VEVENT
BEGIN:VEVENT
DTSTART;TZID=America/Denver:20260114T080000
DTEND;TZID=America/Denver:20260115T160000
DTSTAMP:20260422T062113
CREATED:20241209T173323Z
LAST-MODIFIED:20260105T213530Z
UID:10003266-1768377600-1768492800@www.veteranscenter.org
SUMMARY:LINK Workshop
DESCRIPTION:Learning\, Interviewing\, Networking\, and Knowledge! \nCareer Assessments\, Interviewing\, Employer Connections\, and more! \nPut your interview and networking skills to the test. \nIf interested\, please contact: jdix@mtcarmelcenter.org
URL:https://www.veteranscenter.org/mtcarmel-event/link-workshop-6/
LOCATION:Mt. Carmel Veterans Service Center\, 530 Communication Circle\, Colorado Springs\, CO\, 80905\, United States
CATEGORIES:Community Events
END:VEVENT
BEGIN:VEVENT
DTSTART;TZID=America/Denver:20260115T160000
DTEND;TZID=America/Denver:20260115T180000
DTSTAMP:20260422T062113
CREATED:20240429T181901Z
LAST-MODIFIED:20260108T152745Z
UID:10003087-1768492800-1768500000@www.veteranscenter.org
SUMMARY:Peer Navigator Social & Networking Event
DESCRIPTION:Open to active military\, veterans\, military spouses\, Guard\, and Reserve.\nBring your most current resume and business cards. \nWhere: Blackhat Distillery \nWhen: 4:00pm – 6:00pm \n*This is an informal event – casual attire welcome.
URL:https://www.veteranscenter.org/mtcarmel-event/peer-navigator-social-networking-event-4/2026-01-15/
LOCATION:Blackhat Distillery\, 3104 N. Nevada Ave.\, Suite 120\, Colorado Springs\, CO 80907\, Colorado Springs\, CO\, 80907
CATEGORIES:Community Events
END:VEVENT
BEGIN:VEVENT
DTSTART;TZID=America/Denver:20260120T163000
DTEND;TZID=America/Denver:20260120T173000
DTSTAMP:20260422T062113
CREATED:20250602T194415Z
LAST-MODIFIED:20260105T212925Z
UID:10002673-1768926600-1768930200@www.veteranscenter.org
SUMMARY:Comeback Yoga
DESCRIPTION:“We focus on tools within yoga that help down regulate the nervous system\, and alleviate trauma symptoms all while moving the body in sustainable ways. More so\, when students come to class\, they know that they are already in a room\, or virtual room\, with people who have had similar life experiences. For more information you can call 719-309-4758.”
URL:https://www.veteranscenter.org/mtcarmel-event/comeback-yoga-5/2026-01-20/
LOCATION:Mt. Carmel Veterans Service Center\, 530 Communication Circle\, Colorado Springs\, CO\, 80905\, United States
CATEGORIES:Community Events
ATTACH;FMTTYPE=image/png:https://www.veteranscenter.org/wp-content/uploads/2024/01/comeback-yoga.png
END:VEVENT
BEGIN:VEVENT
DTSTART;TZID=America/Denver:20260123T100000
DTEND;TZID=America/Denver:20260123T110000
DTSTAMP:20260422T062113
CREATED:20240729T205546Z
LAST-MODIFIED:20260310T203738Z
UID:10002530-1769162400-1769166000@www.veteranscenter.org
SUMMARY:Food Distro
DESCRIPTION:OPEN TO ALL!\nOpens at 10AM\nUntil Supplies are Depleted \nNorris Penrose Event Center Upper Lot\n1125 W. Moreno St. \nAcross from Mt. Carmel Veterans Service Center \n*2/28 – Will be held in the Norris Penrose North Parking Lot down by the Rodeo Arena (1045 Lower Gold Camp Rd\, C. Springs) \n*9/12 – Patriot Day event (Must pre-register; details to follow) 
URL:https://www.veteranscenter.org/mtcarmel-event/food-distro-6/2026-01-23/
LOCATION:Norris Penrose Event Center Upper Lot\, 1125 W. Moreno St.\, Colorado Springs\, CO\, 80905\, United States
CATEGORIES:Food Distro
ATTACH;FMTTYPE=image/png:https://www.veteranscenter.org/wp-content/uploads/2026/03/Mt-Carmel-Event-1.png
END:VEVENT
BEGIN:VEVENT
DTSTART;TZID=America/Denver:20260127T163000
DTEND;TZID=America/Denver:20260127T173000
DTSTAMP:20260422T062113
CREATED:20250602T194415Z
LAST-MODIFIED:20260105T212925Z
UID:10002674-1769531400-1769535000@www.veteranscenter.org
SUMMARY:Comeback Yoga
DESCRIPTION:“We focus on tools within yoga that help down regulate the nervous system\, and alleviate trauma symptoms all while moving the body in sustainable ways. More so\, when students come to class\, they know that they are already in a room\, or virtual room\, with people who have had similar life experiences. For more information you can call 719-309-4758.”
URL:https://www.veteranscenter.org/mtcarmel-event/comeback-yoga-5/2026-01-27/
LOCATION:Mt. Carmel Veterans Service Center\, 530 Communication Circle\, Colorado Springs\, CO\, 80905\, United States
CATEGORIES:Community Events
ATTACH;FMTTYPE=image/png:https://www.veteranscenter.org/wp-content/uploads/2024/01/comeback-yoga.png
END:VEVENT
BEGIN:VEVENT
DTSTART;TZID=America/Denver:20260128T100000
DTEND;TZID=America/Denver:20260128T140000
DTSTAMP:20260422T062113
CREATED:20250728T224833Z
LAST-MODIFIED:20260105T212721Z
UID:10002729-1769594400-1769608800@www.veteranscenter.org
SUMMARY:Hiring Event
DESCRIPTION:Mt. Carmel’s is doing another Hiring Event on January 28th! Meet with employers eager to connect with talented Veterans and family members ready to take the next step in their careers. Bring your resume\, come ready to network\, and let’s make it happen!\n\n\nMt. Carmel Veterans Service Center – 530 Communications Circle\, Colorado Springs\n January 28th | 10am – 2pm\nQuestions? Call us at (719) 309-4714
URL:https://www.veteranscenter.org/mtcarmel-event/hiring-event-5/
LOCATION:Mt. Carmel Veterans Service Center\, 530 Communication Circle\, Colorado Springs\, CO\, 80905\, United States
CATEGORIES:Community Events
ATTACH;FMTTYPE=application/pdf:https://www.veteranscenter.org/wp-content/uploads/2025/07/HiringEvent_flyer-Jan-28-2026.pdf
END:VEVENT
END:VCALENDAR