BEGIN:VCALENDAR
VERSION:2.0
PRODID:-//Mt. Carmel Veterans Center - ECPv6.15.18//NONSGML v1.0//EN
CALSCALE:GREGORIAN
METHOD:PUBLISH
X-ORIGINAL-URL:https://www.veteranscenter.org
X-WR-CALDESC:Events for Mt. Carmel Veterans Center
REFRESH-INTERVAL;VALUE=DURATION:PT1H
X-Robots-Tag:noindex
X-PUBLISHED-TTL:PT1H
BEGIN:VTIMEZONE
TZID:America/Denver
BEGIN:DAYLIGHT
TZOFFSETFROM:-0700
TZOFFSETTO:-0600
TZNAME:MDT
DTSTART:20250309T090000
END:DAYLIGHT
BEGIN:STANDARD
TZOFFSETFROM:-0600
TZOFFSETTO:-0700
TZNAME:MST
DTSTART:20251102T080000
END:STANDARD
BEGIN:DAYLIGHT
TZOFFSETFROM:-0700
TZOFFSETTO:-0600
TZNAME:MDT
DTSTART:20260308T090000
END:DAYLIGHT
BEGIN:STANDARD
TZOFFSETFROM:-0600
TZOFFSETTO:-0700
TZNAME:MST
DTSTART:20261101T080000
END:STANDARD
BEGIN:DAYLIGHT
TZOFFSETFROM:-0700
TZOFFSETTO:-0600
TZNAME:MDT
DTSTART:20270314T090000
END:DAYLIGHT
BEGIN:STANDARD
TZOFFSETFROM:-0600
TZOFFSETTO:-0700
TZNAME:MST
DTSTART:20271107T080000
END:STANDARD
END:VTIMEZONE
BEGIN:VEVENT
DTSTART;TZID=America/Denver:20260421T163000
DTEND;TZID=America/Denver:20260421T173000
DTSTAMP:20260421T081745
CREATED:20250602T194415Z
LAST-MODIFIED:20260105T212925Z
UID:10002686-1776789000-1776792600@www.veteranscenter.org
SUMMARY:Comeback Yoga
DESCRIPTION:“We focus on tools within yoga that help down regulate the nervous system\, and alleviate trauma symptoms all while moving the body in sustainable ways. More so\, when students come to class\, they know that they are already in a room\, or virtual room\, with people who have had similar life experiences. For more information you can call 719-309-4758.”
URL:https://www.veteranscenter.org/mtcarmel-event/comeback-yoga-5/2026-04-21/
LOCATION:Mt. Carmel Veterans Service Center\, 530 Communication Circle\, Colorado Springs\, CO\, 80905\, United States
CATEGORIES:Community Events
ATTACH;FMTTYPE=image/png:https://www.veteranscenter.org/wp-content/uploads/2024/01/comeback-yoga.png
END:VEVENT
BEGIN:VEVENT
DTSTART;TZID=America/Denver:20260424T100000
DTEND;TZID=America/Denver:20260424T110000
DTSTAMP:20260421T081745
CREATED:20240729T205546Z
LAST-MODIFIED:20260310T203738Z
UID:10002535-1777024800-1777028400@www.veteranscenter.org
SUMMARY:Food Distro
DESCRIPTION:OPEN TO ALL!\nOpens at 10AM\nUntil Supplies are Depleted \nNorris Penrose Event Center Upper Lot\n1125 W. Moreno St. \nAcross from Mt. Carmel Veterans Service Center \n*2/28 – Will be held in the Norris Penrose North Parking Lot down by the Rodeo Arena (1045 Lower Gold Camp Rd\, C. Springs) \n*9/12 – Patriot Day event (Must pre-register; details to follow) 
URL:https://www.veteranscenter.org/mtcarmel-event/food-distro-6/2026-04-24/
LOCATION:Norris Penrose Event Center Upper Lot\, 1125 W. Moreno St.\, Colorado Springs\, CO\, 80905\, United States
CATEGORIES:Food Distro
ATTACH;FMTTYPE=image/png:https://www.veteranscenter.org/wp-content/uploads/2026/03/Mt-Carmel-Event-1.png
END:VEVENT
BEGIN:VEVENT
DTSTART;TZID=America/Denver:20260427T173000
DTEND;TZID=America/Denver:20260427T193000
DTSTAMP:20260421T081745
CREATED:20260401T204355Z
LAST-MODIFIED:20260402T184233Z
UID:10003683-1777311000-1777318200@www.veteranscenter.org
SUMMARY:Art Expressions - Mixed Media
DESCRIPTION:Art Expressions at Mt Carmel Veterans Service Center \nIn partnership with Bemis School of Art 2026 \nUncover techniques to foster artistic talents while enhancing self-awareness. Delve into a realm of potential\, cultivate creativity\, and deepen personal understanding by engaging with a diverse range of manageable art mediums. Harness the power of art as a conduit for emotional expression\, offering a constructive avenue and an alternative means of conveying complex feelings beyond verbal articulation. Reflecting on the art created can yield fresh perspectives and profound insights into one’s emotional landscape. Supplies are provided. \nIf interested\, please contact the Health and Wellness line to sign up: (719) 309-4758\n*All classes run from 5:30pm – 7:30pm \n2026 Schedule of Events\nMarch 16\, 23 and 30 (Mondays)\nWith Kim N – Journal Cover Decorating & Collage \nApril 6-27 (Mondays)\nWith Marianne E. – Mixed Media \nMay 4-18 (Mondays)\nWith Melissa D. – Painting \nJune 1-29 (Mondays)\n5 weeks\nWith Kim N – Watercolor  \nJuly 6-27 (Mondays)\n4 weeks\nWith Melissa D. – Painting  \nAugust 3\, 17\, 24 & 31\, no class August 10 (Mondays)\n4 weeks\nWith Kim N – Gelli Plate Printing  \nSeptember 14-28 (Mondays)\n3 weeks\nWith Kim N – Mixed Media  \nOctober 5-26 (Mondays)\n4 weeks\nWith Marianne E. – Mixed Media  \nNovember 2\, 16\, 23 & 30\, no class November 9 (Mondays)\n4 weeks\nWith Kim N – Holiday Projects \nDecember 7-21 (Mondays)\n4 weeks\nWith Kim N – Holiday Projects
URL:https://www.veteranscenter.org/mtcarmel-event/art-expressions-10/2026-04-27/
LOCATION:Mt. Carmel Veterans Service Center\, 530 Communication Circle\, Colorado Springs\, CO\, 80905\, United States
CATEGORIES:Community Events
ATTACH;FMTTYPE=image/png:https://www.veteranscenter.org/wp-content/uploads/2026/04/Copy-of-logo-for-vboc-9.png
END:VEVENT
BEGIN:VEVENT
DTSTART;TZID=America/Denver:20260428T163000
DTEND;TZID=America/Denver:20260428T173000
DTSTAMP:20260421T081745
CREATED:20250602T194415Z
LAST-MODIFIED:20260105T212925Z
UID:10002687-1777393800-1777397400@www.veteranscenter.org
SUMMARY:Comeback Yoga
DESCRIPTION:“We focus on tools within yoga that help down regulate the nervous system\, and alleviate trauma symptoms all while moving the body in sustainable ways. More so\, when students come to class\, they know that they are already in a room\, or virtual room\, with people who have had similar life experiences. For more information you can call 719-309-4758.”
URL:https://www.veteranscenter.org/mtcarmel-event/comeback-yoga-5/2026-04-28/
LOCATION:Mt. Carmel Veterans Service Center\, 530 Communication Circle\, Colorado Springs\, CO\, 80905\, United States
CATEGORIES:Community Events
ATTACH;FMTTYPE=image/png:https://www.veteranscenter.org/wp-content/uploads/2024/01/comeback-yoga.png
END:VEVENT
BEGIN:VEVENT
DTSTART;TZID=America/Denver:20260429T100000
DTEND;TZID=America/Denver:20260429T140000
DTSTAMP:20260421T081745
CREATED:20260415T171305Z
LAST-MODIFIED:20260415T171305Z
UID:10004233-1777456800-1777471200@www.veteranscenter.org
SUMMARY:Hiring Event
DESCRIPTION:Join us for a Mt. Carmel Veterans Service Center Hiring Event featuring an exceptional lineup of local\, regional\, and national employers committed to supporting veterans\, military spouses\, and the wider community. Job seekers will have the opportunity to meet face‑to‑face with representatives from a diverse range of industries including defense\, public safety\, education\, healthcare\, finance\, skilled trades\, and technology. \nThis event includes participation from the following organizations:\nACI\, Amentum\, Arcfield\, Baker & King Security Services LLC\, Bowhead\, Chickasaw\, Colorado Department of Corrections\, Colorado Department of Education\, Colorado Springs Police Department\, Colorado Springs Utilities\, El Paso County Sheriff’s Office\, Federal Bureau of Prisons\, Forge Now\, Grand Canyon University\, Infinity Systems Engineering\, Interstate Roofing\, Leidos\, The Miliare Group\, Nevada Gold Mines\, New York Life\, Phil Long\, Pueblo\, Pueblo Police Department\, Quantum Research International\, RapidAscent\, Spectrum\, Star V Learning\, Thrivent Financial\, UCHealth\, U.S. Border Patrol\, US Falcon\, USAA\, Valiant Staffing\, Westminster Police Department\, and Hiring Our Heroes (HoH). \nWhether you’re exploring new career paths\, transitioning from military service\, or seeking a fresh start\, this event brings together employers who value your experience\, skills\, and commitment. All job seekers are welcome\, and no registration is required.
URL:https://www.veteranscenter.org/mtcarmel-event/hiring-event-6/
LOCATION:Mt. Carmel Veterans Service Center\, 530 Communication Circle\, Colorado Springs\, CO\, 80905\, United States
CATEGORIES:MCVSC Colorado Springs
ATTACH;FMTTYPE=image/png:https://www.veteranscenter.org/wp-content/uploads/2026/04/Copy-of-logo-for-vboc-10.png
END:VEVENT
END:VCALENDAR